Workbook

Sheet Data
C3: Actual data | F3: Simple regression | I3: Multiple regression
A4: Store | B4: Floor space | C4: Advertising expenditure | D4: Monthly sales
B5: X1 | C5: X2 | D5: Y | F5: Forecast | G5: Error | I5: Forecast | J5: Error
A6: 1 | B6: 3050 | C6: 350 | D6: 20100 | F6: =FORECAST(B6,$D$6:$D$15,$B$6:$B$15) -> 24194.822 | G6: =D6-F6 -> -4094.8215 | I6: ='multiple regression'!$B$17+'multiple regression'!$B$18*Data!B6+'multiple regression'!$B$19*Data!C6 -> 20035.993 | J6: =D6-I6 -> 64.007197
A7: =1+A6 -> 2 | B7: 1300 | C7: 980 | D7: 14900 | F7: =FORECAST(B7,$D$6:$D$15,$B$6:$B$15) -> 12547.276 | G7: =D7-F7 -> 2352.7236 | I7: ='multiple regression'!$B$17+'multiple regression'!$B$18*Data!B7+'multiple regression'!$B$19*Data!C7 -> 14808.681 | J7: =D7-I7 -> 91.31933
A8: =1+A7 -> 3 | B8: 1890 | C8: 830 | D8: 16800 | F8: =FORECAST(B8,$D$6:$D$15,$B$6:$B$15) -> 16474.163 | G8: =D8-F8 -> 325.83698 | I8: ='multiple regression'!$B$17+'multiple regression'!$B$18*Data!B8+'multiple regression'!$B$19*Data!C8 -> 18032.094 | J8: =D8-I8 -> -1232.0944
A9: =1+A8 -> 4 | B9: 1750 | C9: 760 | D9: 9100 | F9: =FORECAST(B9,$D$6:$D$15,$B$6:$B$15) -> 15542.359 | G9: =D9-F9 -> -6442.3594 | I9: ='multiple regression'!$B$17+'multiple regression'!$B$18*Data!B9+'multiple regression'!$B$19*Data!C9 -> 14794.807 | J9: =D9-I9 -> -5694.8075
A10: =1+A9 -> 5 | B10: 1010 | C10: 930 | D10: 15500 | F10: =FORECAST(B10,$D$6:$D$15,$B$6:$B$15) -> 10617.112 | G10: =D10-F10 -> 4882.8883 | I10: ='multiple regression'!$B$17+'multiple regression'!$B$18*Data!B10+'multiple regression'!$B$19*Data!C10 -> 10327.246 | J10: =D10-I10 -> 5172.7535
A11: =1+A10 -> 6 | B11: 2690 | C11: 770 | D11: 26700 | F11: =FORECAST(B11,$D$6:$D$15,$B$6:$B$15) -> 21798.755 | G11: =D11-F11 -> 4901.2449 | I11: ='multiple regression'!$B$17+'multiple regression'!$B$18*Data!B11+'multiple regression'!$B$19*Data!C11 -> 25760.222 | J11: =D11-I11 -> 939.7784
A12: =1+A11 -> 7 | B12: 4210 | C12: 440 | D12: 34600 | F12: =FORECAST(B12,$D$6:$D$15,$B$6:$B$15) -> 31915.48 | G12: =D12-F12 -> 2684.52 | I12: ='multiple regression'!$B$17+'multiple regression'!$B$18*Data!B12+'multiple regression'!$B$19*Data!C12 -> 35386.138 | J12: =D12-I12 -> -786.13807
A13: =1+A12 -> 8 | B13: 1950 | C13: 570 | D13: 7200 | F13: =FORECAST(B13,$D$6:$D$15,$B$6:$B$15) -> 16873.507 | G13: =D13-F13 -> -9673.5074 | I13: ='multiple regression'!$B$17+'multiple regression'!$B$18*Data!B13+'multiple regression'!$B$19*Data!C13 -> 12629.307 | J13: =D13-I13 -> -5429.3073
A14: =1+A13 -> 9 | B14: 2830 | C14: 310 | D14: 21800 | F14: =FORECAST(B14,$D$6:$D$15,$B$6:$B$15) -> 22730.559 | G14: =D14-F14 -> -930.55871 | I14: ='multiple regression'!$B$17+'multiple regression'!$B$18*Data!B14+'multiple regression'!$B$19*Data!C14 -> 16587.84 | J14: =D14-I14 -> 5212.1596
A15: =1+A14 -> 10 | B15: 2030 | C15: 920 | D15: 23400 | F15: =FORECAST(B15,$D$6:$D$15,$B$6:$B$15) -> 17405.967 | G15: =D15-F15 -> 5994.0334 | I15: ='multiple regression'!$B$17+'multiple regression'!$B$18*Data!B15+'multiple regression'!$B$19*Data!C15 -> 21737.671 | J15: =D15-I15 -> 1662.3293
F17: MSE= | G17: ='simple regression'!D13 -> 31169451 | I17: MSE= | J17: ='multiple regression'!D13 -> 17375318

Sheet simple regression
A1: SUMMARY OUTPUT
A3: Regression Statistics
A4: Multiple R | B4: 0.76546181
A5: R Square | B5: 0.58593179
A6: Adjusted R Square | B6: 0.53417326
A7: Standard Error | B7: 5582.9607
A8: Observations | B8: 10
A10: ANOVA
B11: df | C11: SS | D11: MS | E11: F | F11: Significance F
A12: Regression | B12: 1 | C12: 3.528534e+08 | D12: 3.528534e+08 | E12: 11.320488 | F12: 0.0098643456
A13: Residual | B13: 8 | C13: 2.493556e+08 | D13: 31169451
A14: Total | B14: 9 | C14: 602209000
B16: Coefficients | C16: Standard Error | D16: t Stat | E16: P-value | F16: Lower 95% | G16: Upper 95% | H16: Lower 95,0% | I16: Upper 95,0%
A17: Intercept | B17: 3894.8143 | C17: 4826.8866 | D17: 0.80689988 | E17: 0.44304988 | F17: -7236.0063 | G17: 15025.635 | H17: -7236.0063 | I17: 15025.635
A18: X Variable 1 | B18: 6.6557401 | C18: 1.9781708 | D18: 3.3645933 | E18: 0.0098643456 | F18: 2.0940702 | G18: 11.21741 | H18: 2.0940702 | I18: 11.21741
B21: Regression equation: Monthly sales= 3894.81+6.66 (floor space)
K36: ANOVA tests the hypothesis:
K37: Ho: B is zero, i.e. "there is no significant trend in the data so regression is not meaningful"
K38: Ha: B is not zero, i.e., " there is a significant trend in the data thus regression might be meaningful"
K40: Reject Ho when Significance F< alpha; alpha is the significance level 1%, 5% or 10%, ususally taken as 5%.
K41: Otherwise, fail to reject Ho.

Sheet multiple regression
A1: SUMMARY OUTPUT
A3: Regression Statistics
A4: Multiple R | B4: 0.89332611
A5: R Square | B5: 0.79803154
A6: Adjusted R Square | B6: 0.74032626
A7: Standard Error | B7: 4168.3711
A8: Observations | B8: 10
A10: ANOVA
B11: df | C11: SS | D11: MS | E11: F | F11: Significance F
A12: Regression | B12: 2 | C12: 4.8058177e+08 | D12: 2.4029089e+08 | E12: 13.829438 | F12: 0.0037024777
A13: Residual | B13: 7 | C13: 1.2162723e+08 | D13: 17375318
A14: Total | B14: 9 | C14: 602209000
B16: Coefficients | C16: Standard Error | D16: t Stat | E16: P-value | F16: Lower 95% | G16: Upper 95% | H16: Lower 95,0% | I16: Upper 95,0%
A17: Intercept | B17: -22978.615 | C17: 10546.497 | D17: -2.1787914 | E17: 0.065757947 | F17: -47917.117 | G17: 1959.886 | H17: -47917.117 | I17: 1959.886
A18: X Variable 1 | B18: 11.416244 | C18: 2.294389 | D18: 4.975723 | E18: 0.0016087371 | F18: 5.9908762 | G18: 16.841612 | H18: 5.9908762 | I18: 16.841612
A19: X Variable 2 | B19: 23.414468 | C19: 8.6358875 | D19: 2.7112984 | E19: 0.030142367 | F19: 2.9938391 | G19: 43.835097 | H19: 2.9938391 | I19: 43.835097
B21: Multifactor regression equation: Monthly sales= -22.97+11.42*floor space+23.41*advertising expenditure

Sheet How To
